BEGIN:VCALENDAR
VERSION:2.0
PRODID:-//Tukios.com/
BEGIN:VEVENT
UID:8defa6fe-d576-47b8-9a9d-3d171490bbb6@www.schriversmemorial.com
DTSTAMP:20260423T202426Z
DTSTART:20260507T223000Z
DTEND:20260507T233000Z
SUMMARY:Prayer Service
DESCRIPTION:
URL:https://www.schriversmemorial.com/obituaries/ellen-fiechtner
LOCATION: 414 5th Ave NW  Aberdeen SD 57401
GEO:45.4714592;-98.4943832
END:VEVENT
END:VCALENDAR