BEGIN:VCALENDAR
VERSION:2.0
PRODID:-//Tukios.com/
BEGIN:VEVENT
UID:2809ec68-5931-4930-9d38-33d056a2ab99@www.schriversmemorial.com
DTSTAMP:20260423T202611Z
DTSTART:20260508T160000Z
DTEND:20260508T170000Z
SUMMARY:Funeral Service
DESCRIPTION:
URL:https://www.schriversmemorial.com/obituaries/ellen-fiechtner
LOCATION:St. Paul's Lutheran Church 214 7th Ave SW  Aberdeen SD 57401
GEO:45.4583533;-98.4919777
END:VEVENT
END:VCALENDAR