BEGIN:VCALENDAR
VERSION:2.0
PRODID:-//Tukios.com/
BEGIN:VEVENT
UID:d31bda76-3581-4887-bb94-a5237aff11fd@www.schriversmemorial.com
DTSTAMP:20260423T201927Z
DTSTART:20260507T200000Z
DTEND:20260507T223000Z
SUMMARY:Visitation
DESCRIPTION:
URL:https://www.schriversmemorial.com/obituaries/ellen-fiechtner
LOCATION: 414 5th Ave NW  Aberdeen SD 57401
GEO:45.4714592;-98.4943832
END:VEVENT
END:VCALENDAR